BEGIN:VCALENDAR
VERSION:2.0
PRODID:-//San Gabriel Pomona Regional Center - ECPv6.15.12.2//NONSGML v1.0//EN
CALSCALE:GREGORIAN
METHOD:PUBLISH
X-WR-CALNAME:San Gabriel Pomona Regional Center
X-ORIGINAL-URL:https://www.sgprc.org
X-WR-CALDESC:Events for San Gabriel Pomona Regional Center
REFRESH-INTERVAL;VALUE=DURATION:PT1H
X-Robots-Tag:noindex
X-PUBLISHED-TTL:PT1H
BEGIN:VTIMEZONE
TZID:America/Los_Angeles
BEGIN:DAYLIGHT
TZOFFSETFROM:-0800
TZOFFSETTO:-0700
TZNAME:PDT
DTSTART:20250309T100000
END:DAYLIGHT
BEGIN:STANDARD
TZOFFSETFROM:-0700
TZOFFSETTO:-0800
TZNAME:PST
DTSTART:20251102T090000
END:STANDARD
BEGIN:DAYLIGHT
TZOFFSETFROM:-0800
TZOFFSETTO:-0700
TZNAME:PDT
DTSTART:20260308T100000
END:DAYLIGHT
BEGIN:STANDARD
TZOFFSETFROM:-0700
TZOFFSETTO:-0800
TZNAME:PST
DTSTART:20261101T090000
END:STANDARD
BEGIN:DAYLIGHT
TZOFFSETFROM:-0800
TZOFFSETTO:-0700
TZNAME:PDT
DTSTART:20270314T100000
END:DAYLIGHT
BEGIN:STANDARD
TZOFFSETFROM:-0700
TZOFFSETTO:-0800
TZNAME:PST
DTSTART:20271107T090000
END:STANDARD
END:VTIMEZONE
BEGIN:VEVENT
DTSTART;TZID=America/Los_Angeles:20260211T100000
DTEND;TZID=America/Los_Angeles:20260211T100000
DTSTAMP:20260419T061201
CREATED:20260205T012923Z
LAST-MODIFIED:20260205T012941Z
UID:10001264-1770804000-1770804000@www.sgprc.org
SUMMARY:SIR Regulation Updates Training
DESCRIPTION:SG/PRC QA Presents…. \nSpecial Incident Reporting Regulation Updates!\nFree training for all SG/PRC vendors \n\nClick here for flyer \n\nJoin us via ZOOM! \nhttps://sgprc-org.zoom.us/j/86864371272?pwd=6trABTbgdfWFn4wmlG4WELnGNWHQma.1#success \nZoom meeting ID: 868 6437 1272  \nPasscode: 872151 \n  \n 
URL:https://www.sgprc.org/events_list/sir-regulation-updates-training/
CATEGORIES:Service Provider Training,Service Providers,SGPRC Meetings & Events
END:VEVENT
BEGIN:VEVENT
DTSTART;TZID=America/Los_Angeles:20260226T100000
DTEND;TZID=America/Los_Angeles:20260226T100000
DTSTAMP:20260419T061201
CREATED:20260218T193649Z
LAST-MODIFIED:20260220T181103Z
UID:10001291-1772100000-1772100000@www.sgprc.org
SUMMARY:Choking Risk Reduction Training
DESCRIPTION:SG/PRC QA Presents a Vendor Training! \nChoking Risk Reduction Training\n\nClick here for flyer \n\nVendored Service Provider Registration Fee is $15.00. Space is limited! \nClick here to Register \n  \n  \n 
URL:https://www.sgprc.org/events_list/choking-risk-reduction-training/
LOCATION:SGPRC Conference Center\, 75 Rancho Camino Drive\, Pomona\, CA\, 91766\, United States
CATEGORIES:Service Provider Training,Service Providers,SGPRC Meetings & Events
END:VEVENT
BEGIN:VEVENT
DTSTART;TZID=America/Los_Angeles:20260226T100000
DTEND;TZID=America/Los_Angeles:20260226T120000
DTSTAMP:20260419T061201
CREATED:20251202T221150Z
LAST-MODIFIED:20251217T193711Z
UID:10001139-1772100000-1772107200@www.sgprc.org
SUMMARY:Quality Assurance Technical Assistance Training
DESCRIPTION:These trainings are designed to assist our vendors in meeting and understanding regulations\, \nas well as providing a practical hands-on approach in implementing best practices. \nTopic: IN PERSON: Choking Practicum \n\nClick Here for Flyer\n\nAll training sessions begin promptly at 10:00 am \nPre-Registration is required. \nCLICK HERE TO REGISTER \nFor Questions please contact : \nJaime Anabalon; SGPRC Manager of Quality Assurance \nEmail:  janabalon@sgprc.org \nTelephone: (909) 710-8832
URL:https://www.sgprc.org/events_list/quality-assurance-technical-assistance-training-11/
CATEGORIES:Service Provider Training,Service Providers,SGPRC Meetings & Events
END:VEVENT
END:VCALENDAR