BEGIN:VCALENDAR
VERSION:2.0
PRODID:-//San Gabriel Pomona Regional Center - ECPv6.15.12.2//NONSGML v1.0//EN
CALSCALE:GREGORIAN
METHOD:PUBLISH
X-ORIGINAL-URL:https://www.sgprc.org
X-WR-CALDESC:Events for San Gabriel Pomona Regional Center
REFRESH-INTERVAL;VALUE=DURATION:PT1H
X-Robots-Tag:noindex
X-PUBLISHED-TTL:PT1H
BEGIN:VTIMEZONE
TZID:America/Los_Angeles
BEGIN:DAYLIGHT
TZOFFSETFROM:-0800
TZOFFSETTO:-0700
TZNAME:PDT
DTSTART:20240310T100000
END:DAYLIGHT
BEGIN:STANDARD
TZOFFSETFROM:-0700
TZOFFSETTO:-0800
TZNAME:PST
DTSTART:20241103T090000
END:STANDARD
BEGIN:DAYLIGHT
TZOFFSETFROM:-0800
TZOFFSETTO:-0700
TZNAME:PDT
DTSTART:20250309T100000
END:DAYLIGHT
BEGIN:STANDARD
TZOFFSETFROM:-0700
TZOFFSETTO:-0800
TZNAME:PST
DTSTART:20251102T090000
END:STANDARD
BEGIN:DAYLIGHT
TZOFFSETFROM:-0800
TZOFFSETTO:-0700
TZNAME:PDT
DTSTART:20260308T100000
END:DAYLIGHT
BEGIN:STANDARD
TZOFFSETFROM:-0700
TZOFFSETTO:-0800
TZNAME:PST
DTSTART:20261101T090000
END:STANDARD
END:VTIMEZONE
BEGIN:VEVENT
DTSTART;TZID=America/Los_Angeles:20250721T100000
DTEND;TZID=America/Los_Angeles:20250721T120000
DTSTAMP:20260419T195303
CREATED:20250319T150207Z
LAST-MODIFIED:20250616T165833Z
UID:10000314-1753092000-1753099200@www.sgprc.org
SUMMARY:SG/PRC Monthly Meeting with Vendors
DESCRIPTION:Please note that for the time being\, in addition to the regularly scheduled VAC meetings on the first Thursday of the month\, SG/PRC will host this monthly remote meeting with vendors regarding updates/guidance related to directives from the Department of Developmental Services and to discuss resource needs impacting service delivery systems. The meetings will be convened via videoconference.  \n**Meeting Notice** \nJoin us Via Zoom! \nMeeting ID: 866 422 940\nPassword: 123456\n\nThese meetings will now be be held on the 3rd Monday of each month from 10 am to noon. \nClick Here to Access Folder with Materials for This Meeting
URL:https://www.sgprc.org/events_list/sg-prc-monthly-meeting-with-vendors/2025-07-21/
CATEGORIES:Service Providers,SGPRC Meetings & Events
END:VEVENT
BEGIN:VEVENT
DTSTART;TZID=America/Los_Angeles:20250724T100000
DTEND;TZID=America/Los_Angeles:20250724T120000
DTSTAMP:20260419T195303
CREATED:20250218T175835Z
LAST-MODIFIED:20250527T202133Z
UID:10000205-1753351200-1753358400@www.sgprc.org
SUMMARY:Quality Assurance Technical Assistance Training
DESCRIPTION:These trainings are designed to assist our vendors in meeting and understanding regulations\, \nas well as providing a practical hands-on approach in implementing best practices. \nTopic: SG/PRC QA: Client’s rights/abuse reporting \n\nClick Here for Flyer\n\nAll training sessions begin promptly at 10:00 am \nPre-Registration is required. \nCLICK HERE TO REGISTER \nFor Questions please contact : \nJaime Anabalon; SGPRC Manager of Quality Assurance \nEmail:  janabalon@sgprc.org \nTelephone: (909) 710-8832
URL:https://www.sgprc.org/events_list/quality-assurance-technical-assistance-training/
CATEGORIES:Service Provider Training,Service Providers,SGPRC Meetings & Events
END:VEVENT
END:VCALENDAR