BEGIN:VCALENDAR
VERSION:2.0
PRODID:-//San Gabriel Pomona Regional Center - ECPv6.15.12.2//NONSGML v1.0//EN
CALSCALE:GREGORIAN
METHOD:PUBLISH
X-WR-CALNAME:San Gabriel Pomona Regional Center
X-ORIGINAL-URL:https://www.sgprc.org
X-WR-CALDESC:Events for San Gabriel Pomona Regional Center
REFRESH-INTERVAL;VALUE=DURATION:PT1H
X-Robots-Tag:noindex
X-PUBLISHED-TTL:PT1H
BEGIN:VTIMEZONE
TZID:America/Los_Angeles
BEGIN:DAYLIGHT
TZOFFSETFROM:-0800
TZOFFSETTO:-0700
TZNAME:PDT
DTSTART:20240310T100000
END:DAYLIGHT
BEGIN:STANDARD
TZOFFSETFROM:-0700
TZOFFSETTO:-0800
TZNAME:PST
DTSTART:20241103T090000
END:STANDARD
BEGIN:DAYLIGHT
TZOFFSETFROM:-0800
TZOFFSETTO:-0700
TZNAME:PDT
DTSTART:20250309T100000
END:DAYLIGHT
BEGIN:STANDARD
TZOFFSETFROM:-0700
TZOFFSETTO:-0800
TZNAME:PST
DTSTART:20251102T090000
END:STANDARD
BEGIN:DAYLIGHT
TZOFFSETFROM:-0800
TZOFFSETTO:-0700
TZNAME:PDT
DTSTART:20260308T100000
END:DAYLIGHT
BEGIN:STANDARD
TZOFFSETFROM:-0700
TZOFFSETTO:-0800
TZNAME:PST
DTSTART:20261101T090000
END:STANDARD
END:VTIMEZONE
BEGIN:VEVENT
DTSTART;TZID=America/Los_Angeles:20250102T100000
DTEND;TZID=America/Los_Angeles:20250102T120000
DTSTAMP:20260420T063538
CREATED:20241230T161826Z
LAST-MODIFIED:20250521T185526Z
UID:10000107-1735812000-1735819200@www.sgprc.org
SUMMARY:Vendor Advisory Committee Meeting
DESCRIPTION:Individuals from the vendor community who provide services to our regional center clients. Provides information to the board of directors to effect changes in policy that are beneficial to the delivery of services to the client population. \nAccess Materials \nJoin on Zoom \nMeeting ID: 814 4268 9109 \nPassword: 123456 \nOne tap mobile \n+16699006833\,\,81442689109#\,\,\,\,0#\,\,123456# US (San Jose) \n+13462487799\,\,81442689109#\,\,\,\,0#\,\,123456# US (Houston) \nDial by your location \n+1 669 900 6833 US (San Jose) \n+1 346 248 7799 US (Houston) \n+1 253 215 8782 US (Tacoma) \n+1 929 436 2866 US (New York) \n+1 301 715 8592 US (Germantown) \n+1 312 626 6799 US (Chicago)
URL:https://www.sgprc.org/events_list/vendor-advisory-committee-meeting/
CATEGORIES:Service Providers,SGPRC Meetings & Events
LOCATION:
END:VEVENT
END:VCALENDAR