BEGIN:VCALENDAR
VERSION:2.0
PRODID:-//San Gabriel Pomona Regional Center - ECPv6.15.12.2//NONSGML v1.0//EN
CALSCALE:GREGORIAN
METHOD:PUBLISH
X-ORIGINAL-URL:https://www.sgprc.org
X-WR-CALDESC:Events for San Gabriel Pomona Regional Center
REFRESH-INTERVAL;VALUE=DURATION:PT1H
X-Robots-Tag:noindex
X-PUBLISHED-TTL:PT1H
BEGIN:VTIMEZONE
TZID:America/Los_Angeles
BEGIN:DAYLIGHT
TZOFFSETFROM:-0800
TZOFFSETTO:-0700
TZNAME:PDT
DTSTART:20290311T100000
END:DAYLIGHT
BEGIN:STANDARD
TZOFFSETFROM:-0700
TZOFFSETTO:-0800
TZNAME:PST
DTSTART:20291104T090000
END:STANDARD
BEGIN:DAYLIGHT
TZOFFSETFROM:-0800
TZOFFSETTO:-0700
TZNAME:PDT
DTSTART:20300310T100000
END:DAYLIGHT
BEGIN:STANDARD
TZOFFSETFROM:-0700
TZOFFSETTO:-0800
TZNAME:PST
DTSTART:20301103T090000
END:STANDARD
BEGIN:DAYLIGHT
TZOFFSETFROM:-0800
TZOFFSETTO:-0700
TZNAME:PDT
DTSTART:20310309T100000
END:DAYLIGHT
BEGIN:STANDARD
TZOFFSETFROM:-0700
TZOFFSETTO:-0800
TZNAME:PST
DTSTART:20311102T090000
END:STANDARD
END:VTIMEZONE
BEGIN:VEVENT
DTSTART;TZID=America/Los_Angeles:20301224T000000
DTEND;TZID=America/Los_Angeles:20301224T235959
DTSTAMP:20260423T144341
CREATED:20260316T221619Z
LAST-MODIFIED:20260316T221619Z
UID:10001374-1924300800-1924387199@www.sgprc.org
SUMMARY:Holiday - SGPRC Office Closed - Christmas Eve
DESCRIPTION:
URL:https://www.sgprc.org/events_list/holiday-sgprc-office-closed-14-2/2030-12-24/
CATEGORIES:Office Closure,SGPRC Meetings & Events
END:VEVENT
BEGIN:VEVENT
DTSTART;TZID=America/Los_Angeles:20301225T000000
DTEND;TZID=America/Los_Angeles:20301225T235959
DTSTAMP:20260423T144341
CREATED:20260316T221752Z
LAST-MODIFIED:20260316T221753Z
UID:10001375-1924387200-1924473599@www.sgprc.org
SUMMARY:Holiday - SGPRC Office Closed - Christmas
DESCRIPTION:
URL:https://www.sgprc.org/events_list/holiday-sgprc-office-closed-15-2/2030-12-25/
CATEGORIES:Office Closure,SGPRC Meetings & Events
END:VEVENT
BEGIN:VEVENT
DTSTART;TZID=America/Los_Angeles:20301231T000000
DTEND;TZID=America/Los_Angeles:20301231T235959
DTSTAMP:20260423T144341
CREATED:20260316T221902Z
LAST-MODIFIED:20260316T221902Z
UID:10001376-1924905600-1924991999@www.sgprc.org
SUMMARY:Holiday - SGPRC Office Closed - New Years Eve
DESCRIPTION:
URL:https://www.sgprc.org/events_list/holiday-sgprc-office-closed-16-2/2030-12-31/
CATEGORIES:Office Closure,SGPRC Meetings & Events
END:VEVENT
END:VCALENDAR