BEGIN:VCALENDAR
VERSION:2.0
PRODID:-//San Gabriel Pomona Regional Center - ECPv6.15.12.2//NONSGML v1.0//EN
CALSCALE:GREGORIAN
METHOD:PUBLISH
X-WR-CALNAME:San Gabriel Pomona Regional Center
X-ORIGINAL-URL:https://www.sgprc.org
X-WR-CALDESC:Events for San Gabriel Pomona Regional Center
REFRESH-INTERVAL;VALUE=DURATION:PT1H
X-Robots-Tag:noindex
X-PUBLISHED-TTL:PT1H
BEGIN:VTIMEZONE
TZID:America/Los_Angeles
BEGIN:DAYLIGHT
TZOFFSETFROM:-0800
TZOFFSETTO:-0700
TZNAME:PDT
DTSTART:20250309T100000
END:DAYLIGHT
BEGIN:STANDARD
TZOFFSETFROM:-0700
TZOFFSETTO:-0800
TZNAME:PST
DTSTART:20251102T090000
END:STANDARD
BEGIN:DAYLIGHT
TZOFFSETFROM:-0800
TZOFFSETTO:-0700
TZNAME:PDT
DTSTART:20260308T100000
END:DAYLIGHT
BEGIN:STANDARD
TZOFFSETFROM:-0700
TZOFFSETTO:-0800
TZNAME:PST
DTSTART:20261101T090000
END:STANDARD
BEGIN:DAYLIGHT
TZOFFSETFROM:-0800
TZOFFSETTO:-0700
TZNAME:PDT
DTSTART:20270314T100000
END:DAYLIGHT
BEGIN:STANDARD
TZOFFSETFROM:-0700
TZOFFSETTO:-0800
TZNAME:PST
DTSTART:20271107T090000
END:STANDARD
END:VTIMEZONE
BEGIN:VEVENT
DTSTART;TZID=America/Los_Angeles:20260422T100000
DTEND;TZID=America/Los_Angeles:20260422T120000
DTSTAMP:20260422T014253
CREATED:20260105T170859Z
LAST-MODIFIED:20260106T184831Z
UID:10001162-1776852000-1776859200@www.sgprc.org
SUMMARY:Empower Now Advocacy Group
DESCRIPTION:Tammy Evrard Consulting\, led by Tammy Evrard\, will focus on person-centered training\, advocacy training and formation of an advocacy group\, including the creation of an Empower Now group. The goal is to collaborate with individuals with disabilities\, families\, and providers to improve the quality of personal\, professional\, and system-change in person-centered practices. \n\nClick Here for Flyer 
URL:https://www.sgprc.org/events_list/empower-now-advocacy-group-15/
LOCATION:SGPRC Conference Center\, 75 Rancho Camino Drive\, Pomona\, CA\, 91766\, United States
CATEGORIES:Community Events
END:VEVENT
BEGIN:VEVENT
DTSTART;TZID=America/Los_Angeles:20260422T173000
DTEND;TZID=America/Los_Angeles:20260422T190000
DTSTAMP:20260422T014253
CREATED:20260415T223559Z
LAST-MODIFIED:20260415T223620Z
UID:10001040-1776879000-1776884400@www.sgprc.org
SUMMARY:Strategic Development Committee
DESCRIPTION:This committee is responsible for the recruitment\, screening and selection of candidates for the Board of Directors consistent with laws\, regulations\, and the Bylaws.  The Committee recommends its selections for any vacancy on the Board and Committee appointments. The Committee is also responsible for ongoing Board training and strategic planning. The Committee will propose strategic development and policy action to the full Board of Directors for approval. \nPlease click here to access the materials. \nFor more information\, and to sign up for public input\, please contact Erika Gomez\, Liaison to the Board of Directors\, via email at egomez@sgprc.org or 909-710-8194. \n  \nAll SG/PRC Board and related Committee meetings have been adapted to a video-conference format. \nClick here for the Zoom Link\nMeeting ID: 988 615 875 \nPassword: 667011 \nOne tap mobile \n+16699006833\,\,988615875#\,\,\,\,0#\,\,667011# US (San Jose) \n+13462487799\,\,988615875#\,\,\,\,0#\,\,667011# US (Houston) \nDial by your location \n+1 669 900 6833 US (San Jose) \n+1 346 248 7799 US (Houston) \n+1 253 215 8782 US (Tacoma) \n+1 301 715 8592 US (Germantown) \n+1 312 626 6799 US (Chicago) \n+1 929 436 2866 US (New York)
URL:https://www.sgprc.org/events_list/strategic-development-committee-8-6/
CATEGORIES:Board of Directors,SGPRC Meetings & Events
END:VEVENT
BEGIN:VEVENT
DTSTART;TZID=America/Los_Angeles:20260422T180000
DTEND;TZID=America/Los_Angeles:20260422T190000
DTSTAMP:20260422T014253
CREATED:20260415T223959Z
LAST-MODIFIED:20260415T224000Z
UID:10001051-1776880800-1776884400@www.sgprc.org
SUMMARY:Advisory Committee for Individuals Served and their Families
DESCRIPTION:This committee is concerned with all aspects of services provided to individuals served and families of the regional center.  This involves both the direct services of client program coordination as well as the services other agencies provide.  This committee makes recommendations to improve the quality of services to individuals served and families. \nPlease click here to access the materials.\nFor more information\, and to sign up for public input\, please contact Erika Gomez\, Liaison to the Board of Directors\, via email at egomez@sgprc.org or 909-710-8194. \n\n  \nAll SG/PRC Board and related Committee meetings have been adapted to video-conference format. \n\nClick here for the Zoom Link \n\nMeeting ID: 191 486 135 \nPassword: 681356 \nOne tap mobile \n+16699006833\,\,191486135#\,\,\,\,0#\,\,681356# US (San Jose) \n+13462487799\,\,191486135#\,\,\,\,0#\,\,681356# US (Houston) \n  \nDial by your location \n+1 669 900 6833 US (San Jose) \n+1 346 248 7799 US (Houston) \n+1 253 215 8782 US (Tacoma) \n+1 312 626 6799 US (Chicago) \n+1 929 436 2866 US (New York) \n+1 301 715 8592 US (Germantown)
URL:https://www.sgprc.org/events_list/advisory-committee-for-individuals-served-and-their-families-16/
CATEGORIES:Board of Directors,SGPRC Meetings & Events
END:VEVENT
BEGIN:VEVENT
DTSTART;TZID=America/Los_Angeles:20260422T191500
DTEND;TZID=America/Los_Angeles:20260422T203000
DTSTAMP:20260422T014253
CREATED:20251018T002537Z
LAST-MODIFIED:20251018T002758Z
UID:10001098-1776885300-1776889800@www.sgprc.org
SUMMARY:Board of Directors
DESCRIPTION:Each regional center is governed by a Board of Directors made up of volunteers from the community. The Board of Directors sets policy and direction for the regional center. \nPlease click here to access the materials. \nFor more information\, and to sign up for public input\, please contact Erika Gomez\, Liaison to the Board of Directors\, via email at egomez@sgprc.org or 909-710-8194. \n  \nAll SG/PRC Board and related Committee meetings have been adapted to video-conference format. \nClick here for the Zoom Link \nMeeting ID: 234 566 141 \nPassword: 916227 \n  \nOne tap mobile \n+16699006833\,\,234566141#\,\,\,\,0#\,\,916227# US (San Jose) \n+13462487799\,\,234566141#\,\,\,\,0#\,\,916227# US (Houston) \nDial by your location \n+1 669 900 6833 US (San Jose) \n+1 346 248 7799 US (Houston) \n+1 253 215 8782 US (Tacoma) \n+1 312 626 6799 US (Chicago) \n+1 929 436 2866 US (New York) \n+1 301 715 8592 US (Germantown)
URL:https://www.sgprc.org/events_list/board-of-directors/2026-04-22/
END:VEVENT
BEGIN:VEVENT
DTSTART;TZID=America/Los_Angeles:20260422T191500
DTEND;TZID=America/Los_Angeles:20260422T203000
DTSTAMP:20260422T014253
CREATED:20260415T170650Z
LAST-MODIFIED:20260415T224116Z
UID:10001244-1776885300-1776889800@www.sgprc.org
SUMMARY:Board of Directors Meeting
DESCRIPTION:Each regional center is governed by a Board of Directors made up of volunteers from the community. The Board of Directors sets policy and direction for the regional center. \nPlease click here to access the materials.\nSPECIAL PRESENTATION\nPlease join us for a presentation regarding SG/PRC’s Fiscal Year 2026-2027 Performance Contract where the public will have the opportunity to give input and comment on the measures and data provided \n\nClick here to view flyer – English \nClick here to view flyer – Spanish\nClick here to view flyer – Chinese\nClick here to view flyer – Vietnamese\nClick here to view flyer – Korean\n\n\n\nAll SG/PRC Board and related Committee meetings have been adapted to video-conference format. \nClick here for the Zoom Link \n\nMeeting ID: 234 566 141 \nPassword: 916227 \n  \nFor more information\, and to sign up for public input\, please contact Erika Gomez\, Liaison to the Board of Directors\, via email at egomez@sgprc.org or 909-710-8194.
URL:https://www.sgprc.org/events_list/board-of-directors-meeting-11-5/
CATEGORIES:Board of Directors,SGPRC Meetings & Events
END:VEVENT
BEGIN:VEVENT
DTSTART;TZID=America/Los_Angeles:20260422T191500
DTEND;TZID=America/Los_Angeles:20260422T210000
DTSTAMP:20260422T014253
CREATED:20251018T003142Z
LAST-MODIFIED:20251018T003142Z
UID:10001108-1776885300-1776891600@www.sgprc.org
SUMMARY:Board of Directors
DESCRIPTION:Each regional center is governed by a Board of Directors made up of volunteers from the community. The Board of Directors sets policy and direction for the regional center. \nPlease click here to access the materials. \nFor more information\, and to sign up for public input\, please contact Erika Gomez\, Liaison to the Board of Directors\, via email at egomez@sgprc.org or 909-710-8194. \n  \nAll SG/PRC Board and related Committee meetings have been adapted to video-conference format. \nClick here for the Zoom Link \nMeeting ID: 234 566 141 \nPassword: 916227 \n  \nOne tap mobile \n+16699006833\,\,234566141#\,\,\,\,0#\,\,916227# US (San Jose) \n+13462487799\,\,234566141#\,\,\,\,0#\,\,916227# US (Houston) \nDial by your location \n+1 669 900 6833 US (San Jose) \n+1 346 248 7799 US (Houston) \n+1 253 215 8782 US (Tacoma) \n+1 312 626 6799 US (Chicago) \n+1 929 436 2866 US (New York) \n+1 301 715 8592 US (Germantown)
URL:https://www.sgprc.org/events_list/board-of-directors-2/2026-04-22/
END:VEVENT
END:VCALENDAR